BEGIN:VCALENDAR
VERSION:2.0
PRODID:-//Lambton Public Health - ECPv6.15.13//NONSGML v1.0//EN
CALSCALE:GREGORIAN
METHOD:PUBLISH
X-WR-CALNAME:Lambton Public Health
X-ORIGINAL-URL:https://lambtonpublichealth.ca
X-WR-CALDESC:Events for Lambton Public Health
REFRESH-INTERVAL;VALUE=DURATION:PT1H
X-Robots-Tag:noindex
X-PUBLISHED-TTL:PT1H
BEGIN:VTIMEZONE
TZID:America/Toronto
BEGIN:DAYLIGHT
TZOFFSETFROM:-0500
TZOFFSETTO:-0400
TZNAME:EDT
DTSTART:20220313T070000
END:DAYLIGHT
BEGIN:STANDARD
TZOFFSETFROM:-0400
TZOFFSETTO:-0500
TZNAME:EST
DTSTART:20221106T060000
END:STANDARD
BEGIN:DAYLIGHT
TZOFFSETFROM:-0500
TZOFFSETTO:-0400
TZNAME:EDT
DTSTART:20230312T070000
END:DAYLIGHT
BEGIN:STANDARD
TZOFFSETFROM:-0400
TZOFFSETTO:-0500
TZNAME:EST
DTSTART:20231105T060000
END:STANDARD
BEGIN:DAYLIGHT
TZOFFSETFROM:-0500
TZOFFSETTO:-0400
TZNAME:EDT
DTSTART:20240310T070000
END:DAYLIGHT
BEGIN:STANDARD
TZOFFSETFROM:-0400
TZOFFSETTO:-0500
TZNAME:EST
DTSTART:20241103T060000
END:STANDARD
BEGIN:DAYLIGHT
TZOFFSETFROM:-0500
TZOFFSETTO:-0400
TZNAME:EDT
DTSTART:20250309T070000
END:DAYLIGHT
BEGIN:STANDARD
TZOFFSETFROM:-0400
TZOFFSETTO:-0500
TZNAME:EST
DTSTART:20251102T060000
END:STANDARD
END:VTIMEZONE
BEGIN:VEVENT
DTSTART;TZID=America/Toronto:20240813T133000
DTEND;TZID=America/Toronto:20240813T153000
DTSTAMP:20260421T204837
CREATED:20240516T124556Z
LAST-MODIFIED:20240731T165447Z
UID:107020-1723555800-1723563000@lambtonpublichealth.ca
SUMMARY:Food Handlers Exam - August 13
DESCRIPTION:Food Handler’s Exam (SOLD OUT)August 13\, 2024Register online for the Food Handler Certification Exam \n\nRegister\n\n\n\nCertification\n\nParticipants who achieve a minimum of 70% on the food handler exam will receive an Ontario Food Handlers Certificate. This Certificate meets mandatory food safety training requirements and is recognized by health units in Ontario. \n\nDate and Time\n\nDate: August 13\, 2024Time: 1:30 p.m. – 3:30 p.m. \n\nLocation\n\nLambton Public Health160 Exmouth StPoint Edward\, Ontario N7T 7Z6Canada+ Google Map \n\nPurchase a Ticket Below to Register
URL:https://lambtonpublichealth.ca/event/food-handlers-exam-august-13/
END:VEVENT
BEGIN:VEVENT
DTSTART;TZID=America/Toronto:20240716T090000
DTEND;TZID=America/Toronto:20240716T160000
DTSTAMP:20260421T204837
CREATED:20240503T124248Z
LAST-MODIFIED:20240712T133527Z
UID:105983-1721120400-1721145600@lambtonpublichealth.ca
SUMMARY:Food Handlers Class & Exam - July 16
DESCRIPTION:Food Handler’s Class and Exam – July 16\, 2024Lambton Shared Services Centre162 Lochiel St. Sarnia\, N7T 7W5Time: 9:00 a.m. – 4:00 p.m. \n\nRegisterCourse DetailsThe Food Handler Certification Program is designed to teach food handlers the general principles of safe food handling. This course will provide the food handler with the basic knowledge to identify risk factors associated with food-borne illnesses and the skills necessary to handle food in a manner that will prevent illnesses from occurring. The course is taught by a Certified Public Health Inspector.Participants who achieve a minimum of 70% on the food handler exam will receive an Ontario Food Handlers Certificate. This certificate meets mandatory food safety training requirements and is recognized by health units in Ontario. Certification is valid for five years from the date of issue. \n\n\n\nCourse Outline\n\nRole of Lambton Public Health\n\nRole of the Public Health Inspector\n\nPublic health legislation\n\nFood Microbiology\n\nFoodborne illness\n\nHand washing and personal hygiene\n\nFood protection and preparation\n\nServing and dispensing\n\nCleaning and sanitizing\n\nPest control\n\nFood allergies\n\nStructural and general items\n\nIntroduction to Hazard Analysis Critical Control Point (HACCP)\n\nLocationThe Food Handlers Class & Exam is held at the Lambton Shared Services Centre in Training Room 1/2 located on the second floor.162 Lochiel St. Sarnia\, N7T 7W5 \n\nDate & TimeDate: July 16\, 2024Time: 9:00 a.m. – 4:00 p.m. \n\nTraining Rooms 1/2The Food Handlers Course and Exam will take place in Training Room 1/2\, situated on the second floor. Please refer to the map below for the exact location of Training Room 1/2. \n\n\n\n\n\nParkingPlease utilize the above-ground parking lot located off George Street. Enter the building through the door near Lochiel (Door #3 on the parking map).
URL:https://lambtonpublichealth.ca/event/food-handlers-class-exam-july-16/
END:VEVENT
BEGIN:VEVENT
DTSTART;TZID=America/Toronto:20240709T093000
DTEND;TZID=America/Toronto:20240709T113000
DTSTAMP:20260421T204837
CREATED:20240506T133227Z
LAST-MODIFIED:20240612T123214Z
UID:106150-1720517400-1720524600@lambtonpublichealth.ca
SUMMARY:FHE July 9\, 2024
DESCRIPTION:Food Handler’s ExamJuly 9\, 2024Register online for the Food Handler Certification Exam \n\nRegister\n\n\n\nCertification\n\nParticipants who achieve a minimum of 70% on the food handler exam will receive an Ontario Food Handlers Certificate. This Certificate meets mandatory food safety training requirements and is recognized by health units in Ontario. \n\nDate and Time\n\nDate: July 9\, 2024Time: 9:30 a.m. – 11:30 a.m. \n\nLocation\n\nLambton Public Health160 Exmouth StPoint Edward\, Ontario N7T 7Z6Canada+ Google Map Purchase a Ticket Below to register
URL:https://lambtonpublichealth.ca/event/fhe-july-9-2024/
END:VEVENT
BEGIN:VEVENT
DTSTART;TZID=America/Toronto:20240613T133000
DTEND;TZID=America/Toronto:20240613T153000
DTSTAMP:20260421T204837
CREATED:20240503T151726Z
LAST-MODIFIED:20240508T194921Z
UID:106019-1718285400-1718292600@lambtonpublichealth.ca
SUMMARY:Food Handlers Exam - June 13\, 2024
DESCRIPTION:Food Handler’s ExamJune 13\, 2024Register online for the Food Handler Certification Exam \n\nRegister\n\n\n\nCertification\n\nParticipants who achieve a minimum of 70% on the food handler exam will receive an Ontario Food Handlers Certificate. This Certificate meets mandatory food safety training requirements and is recognized by health units in Ontario. \n\nDate and Time\n\nDate: June 13\, 2024Time: 1:30 p.m. – 3:30 p.m. \n\nLocation\n\nLambton Public Health160 Exmouth StPoint Edward\, Ontario N7T 7Z6Canada+ Google Map \n\nPurchase a Ticket Below to Register
URL:https://lambtonpublichealth.ca/event/food-handlers-exam-june-13-2024/
END:VEVENT
BEGIN:VEVENT
DTSTART;TZID=America/Toronto:20240522T090000
DTEND;TZID=America/Toronto:20240522T160000
DTSTAMP:20260421T204837
CREATED:20240405T145111Z
LAST-MODIFIED:20240423T124840Z
UID:104555-1716368400-1716393600@lambtonpublichealth.ca
SUMMARY:Food Handlers Class & Exam - May 22
DESCRIPTION:Food Handler’s Class and Exam – May 22\, 2024St. Philips Church\, 415 King Street\, PetroliaTime: 9:00 a.m. – 4:00 p.m. \n\nRegisterCourse DetailsThe Food Handler Certification Program is designed to teach food handlers the general principles of safe food handling. This course will provide the food handler with the basic knowledge to identify risk factors associated with food-borne illnesses and the skills necessary to handle food in a manner that will prevent illnesses from occurring. The course is taught by a Certified Public Health Inspector.Participants who achieve a minimum of 70% on the food handler exam will receive an Ontario Food Handlers Certificate. This certificate meets mandatory food safety training requirements and is recognized by health units in Ontario. Certification is valid for five years from the date of issue. \n\n\n\nCourse Outline\n\nRole of Lambton Public Health\n\nRole of the Public Health Inspector\n\nPublic health legislation\n\nFood Microbiology\n\nFoodborne illness\n\nHand washing and personal hygiene\n\nFood protection and preparation\n\nServing and dispensing\n\nCleaning and sanitizing\n\nPest control\n\nFood allergies\n\nStructural and general items\n\nIntroduction to Hazard Analysis Critical Control Point (HACCP)\n\nLocationThis Food Handlers Class & Exam is held at the St. Philips Church located in Petrolia.St. Philips Church\, 415 King Street\, Petrolia \n\n\n\nDate & TimeDate: May 22\, 2024Time: 9:00 a.m. – 4:00 p.m.
URL:https://lambtonpublichealth.ca/event/foodhandlerspetrolia/
END:VEVENT
BEGIN:VEVENT
DTSTART;TZID=America/Toronto:20240514T090000
DTEND;TZID=America/Toronto:20240514T160000
DTSTAMP:20260421T204837
CREATED:20240301T164035Z
LAST-MODIFIED:20240423T130717Z
UID:101490-1715677200-1715702400@lambtonpublichealth.ca
SUMMARY:Food Handler's Class and Exam - May 14\, 2024
DESCRIPTION:Food Handler’s Class and Exam – May 14\, 2024Lambton Shared Services CentreTime: 9:00 a.m. – 4:00 p.m. Course DetailsThe Food Handler Certification Program is designed to teach food handlers the general principles of safe food handling. This course will provide the food handler with the basic knowledge to identify risk factors associated with food-borne illnesses and the skills necessary to handle food in a manner that will prevent illnesses from occurring. The course is taught by a Certified Public Health Inspector.Participants who achieve a minimum of 70% on the food handler exam will receive an Ontario Food Handlers Certificate. This certificate meets mandatory food safety training requirements and is recognized by health units in Ontario. Certification is valid for five years from the date of issue. \n\n\n\nCourse Outline\n\nRole of Lambton Public Health\n\nRole of the Public Health Inspector\n\nPublic health legislation\n\nFood Microbiology\n\nFoodborne illness\n\nHand washing and personal hygiene\n\nFood protection and preparation\n\nServing and dispensing\n\nCleaning and sanitizing\n\nPest control\n\nFood allergies\n\nStructural and general items\n\nIntroduction to Hazard Analysis Critical Control Point (HACCP)\n\nLocationThe Food Handlers Class & Exam is held at the Lambton Shared Services Centre in Training Room 1/2 located on the second floor.162 Lochiel St. Sarnia\, N7T 7W5 \n\n\n\nDate & TimeDate: May 14\, 2024Time: 9:00 a.m. – 4:00 p.m. \n\nTraining Rooms 1/2The Food Handlers Course and Exam will take place in Training Room 1/2\, situated on the second floor. Please refer to the map below for the exact location of Training Room 1/2. \n\n\n\n\n\nParkingPlease utilize the above-ground parking lot located off George Street. Enter the building through the door near Lochiel (Door #3 on the parking map).
URL:https://lambtonpublichealth.ca/event/food-handlers-class-and-exam-may-14-2024/
END:VEVENT
BEGIN:VEVENT
DTSTART;TZID=America/Toronto:20240507T093000
DTEND;TZID=America/Toronto:20240507T113000
DTSTAMP:20260421T204837
CREATED:20240226T155724Z
LAST-MODIFIED:20240227T010326Z
UID:100930-1715074200-1715081400@lambtonpublichealth.ca
SUMMARY:Food Handlers Exam - May 7\, 2024
DESCRIPTION:Food Handler’s ExamMay 7\, 2024Register online for the Food Handler Certification Exam \n\nRegister\n\n\n\nCertification\n\nParticipants who achieve a minimum of 70% on the food handler exam will receive an Ontario Food Handlers Certificate. This Certificate meets mandatory food safety training requirements and is recognized by health units in Ontario. \n\nDate and Time\n\nDate: May 7\, 2024Time: 9:30 am – 11:30 am \n\nLocation\n\nLambton Public Health160 Exmouth StPoint Edward\, Ontario N7T 7Z6Canada+ Google Map \n\nPurchase a Ticket Below to Register
URL:https://lambtonpublichealth.ca/event/food-handlers-exam-may-7-2024/
END:VEVENT
BEGIN:VEVENT
DTSTART;TZID=America/Toronto:20240411T133000
DTEND;TZID=America/Toronto:20240411T153000
DTSTAMP:20260421T204837
CREATED:20240226T153728Z
LAST-MODIFIED:20240305T155124Z
UID:100897-1712842200-1712849400@lambtonpublichealth.ca
SUMMARY:Food Handlers Exam - April 11\, 2024
DESCRIPTION:Food Handler’s ExamApril 11\, 2024Register online for the Food Handler Certification Exam \n\nRegister\n\n\n\nCertification\n\nParticipants who achieve a minimum of 70% on the food handler exam will receive an Ontario Food Handlers Certificate. This Certificate meets mandatory food safety training requirements and is recognized by health units in Ontario. \n\nDate and Time\n\nDate: April 11\, 2024Time: 1:30 pm – 3:30 pm \n\nLocation\n\nLambton Public Health160 Exmouth StPoint Edward\, Ontario N7T 7Z6Canada+ Google Map \n\nPurchase a Ticket Below to Register
URL:https://lambtonpublichealth.ca/event/food-handlers-exam-april-11-2024/
END:VEVENT
BEGIN:VEVENT
DTSTART;TZID=America/Toronto:20240118T093000
DTEND;TZID=America/Toronto:20240118T113000
DTSTAMP:20260421T204837
CREATED:20231214T144334Z
LAST-MODIFIED:20231215T195447Z
UID:97514-1705570200-1705577400@lambtonpublichealth.ca
SUMMARY:Food Handler Exam - January 18\, 2024
DESCRIPTION:Food Handler’s ExamJanuary 18\, 2024Register online for the Food Handler Certification Exam \n\nRegister\n\n\n\n\n\nCertification\n\nParticipants who achieve a minimum of 70% on the food handler exam will receive an Ontario Food Handlers Certificate. This Certificate meets mandatory food safety training requirements and is recognized by health units in Ontario. \n\nDate and Time\n\nDate:Â January 18\, 2024Time:Â 9:30 am â€“ 11:30 am \n\nLocation\n\nLambton Public Health160 Exmouth StPoint Edward\, Ontario N7T 7Z6Canada+ Google Map
URL:https://lambtonpublichealth.ca/event/food-handler-exam-january-18-2024/
END:VEVENT
BEGIN:VEVENT
DTSTART;TZID=America/Toronto:20240111T090000
DTEND;TZID=America/Toronto:20240111T160000
DTSTAMP:20260421T204837
CREATED:20231212T170634Z
LAST-MODIFIED:20231212T172745Z
UID:97283-1704963600-1704988800@lambtonpublichealth.ca
SUMMARY:Food Handler Course - January 11th\, 2024
DESCRIPTION:Food Handler’s Class and Exam – January 11\, 2024Register online for the Food Handler Certification Class & Exam \n\nRegister\n\n\n\n\n\ncourse details\n\nThe Food Handler Certification Program is designed to teach food handlers the general principles of safe food handling. This course will provide the food handler with the basic knowledge to identify risk factors associated with food-borne illnesses and the skills necessary to handle food in a manner that will prevent illnesses from occurring. The course is taught by a Certified Public Health Inspector.Participants who achieve a minimum of 70% on the food handler exam will receive an Ontario Food Handlers Certificate. This certificate meets mandatory food safety training requirements and is recognized by health units in Ontario. Certification is valid for five years from the date of issue. \n\nCourse Outline\n\nRole of Lambton Public Health\n\nRole of the Public Health Inspector\n\nPublic health legislation\n\nFood Microbiology\n\nFoodborne illness\n\nHand washing and personal hygiene\n\nFood protection and preparation\n\nServing and dispensing\n\nCleaning and sanitizing\n\nPest control\n\nFood allergies\n\nStructural and general items\n\nIntroduction to Hazard Analysis Critical Control Point (HACCP)\n\nDate and Time\n\nDate:Â January 11\, 2024Time:Â 9:00 a.m. â€“ 4:00 p.m. \n\nLocation\n\nLambton Shared Services Centre162 Lochiel StSarnia\, N7T 7W5Canada+ Google Map \n\nPARKING\n\nUnderground parking is only accessible to staff with an LSSC keycard\, so please use the above-ground parking lot off George Street. Enter the building at the door near Lochiel (Door #3 on the parking map) \n\n\n\nTraining Room 1/2\n\nThe Food Handlers Course and Exam will be held in Training Room 1/2 located on the second floor. \n\n\n\n\n\nPurchase a Ticket Below to Register
URL:https://lambtonpublichealth.ca/event/fhc-jan11/
END:VEVENT
BEGIN:VEVENT
DTSTART;TZID=America/Toronto:20231129T133000
DTEND;TZID=America/Toronto:20231129T153000
DTSTAMP:20260421T204837
CREATED:20230927T180216Z
LAST-MODIFIED:20230927T180507Z
UID:91632-1701264600-1701271800@lambtonpublichealth.ca
SUMMARY:Food Handlers Exam
DESCRIPTION:Food Handler’s ExamNovember 29\, 2023Register online for the Food Handler Certification Exam \n\nRegister\n\n\n\n\n\nCertification\n\nParticipants who achieve a minimum of 70% on the food handler exam will receive an Ontario Food Handlers Certificate. This Certificate meets mandatory food safety training requirements and is recognized by health units in Ontario. \n\nDate and Time\n\nDate: November 29\, 2023Time: 1:30 pm – 3:30 pm \n\nLocation\n\nLambton Public Health160 Exmouth StPoint Edward\, Ontario N7T 7Z6Canada+ Google Map
URL:https://lambtonpublichealth.ca/event/food-handlers-exam/
END:VEVENT
BEGIN:VEVENT
DTSTART;TZID=America/Toronto:20231114T090000
DTEND;TZID=America/Toronto:20231114T160000
DTSTAMP:20260421T204837
CREATED:20230914T173525Z
LAST-MODIFIED:20230914T181854Z
UID:89516-1699952400-1699977600@lambtonpublichealth.ca
SUMMARY:Food Handlers Class and Exam (Nov 14th)
DESCRIPTION:Food Handler’s Class and Exam – November 14\, 2023Register online for the Food Handler Certification Class & Exam \n\nRegister\n\n\n\n\n\ncourse details\n\nThe Food Handler Certification Program is designed to teach food handlers the general principles of safe food handling. This course will provide the food handler with the basic knowledge to identify risk factors associated with food-borne illnesses and the skills necessary to handle food in a manner that will prevent illnesses from occurring. The course is taught by a Certified Public Health Inspector.Participants who achieve a minimum of 70% on the food handler exam will receive an Ontario Food Handlers Certificate. This certificate meets mandatory food safety training requirements and is recognized by health units in Ontario. Certification is valid for five years from the date of issue. \n\nCourse Outline\n\nRole of Lambton Public Health\n\nRole of the Public Health Inspector\n\nPublic health legislation\n\nFood Microbiology\n\nFoodborne illness\n\nHand washing and personal hygiene\n\nFood protection and preparation\n\nServing and dispensing\n\nCleaning and sanitizing\n\nPest control\n\nFood allergies\n\nStructural and general items\n\nIntroduction to Hazard Analysis Critical Control Point (HACCP)\n\nDate and Time\n\nDate: November 14\, 2023Time: 9:00 a.m. – 4:00 p.m. \n\nLocation\n\nLambton Shared Services Centre162 Lochiel StSarnia\, N7T 7W5Canada+ Google Map \n\nPARKING\n\nUnderground parking is only accessible to staff with an LSSC keycard\, so please use the above-ground parking lot off George Street. Enter the building at the door near Lochiel (Door #3 on the parking map) \n\n\n\nTraining Room 1/2\n\nThe Food Handlers Course and Exam will be held in Training Room 1/2 located on the second floor. \n\n\n\n\n\nPurchase a Ticket Below to Register
URL:https://lambtonpublichealth.ca/event/food-handlers-class-and-exam-nov-14th/
END:VEVENT
BEGIN:VEVENT
DTSTART;TZID=America/Toronto:20231024T133000
DTEND;TZID=America/Toronto:20231024T153000
DTSTAMP:20260421T204837
CREATED:20230823T142338Z
LAST-MODIFIED:20230823T142423Z
UID:88390-1698154200-1698161400@lambtonpublichealth.ca
SUMMARY:Food Handlers Exam - Oct 24th
DESCRIPTION:Food Handler’s ExamOctober 24\, 2023Register online for the Food Handler Certification Exam \n\nRegister\n\n\n\n\n\nCertification\n\nParticipants who achieve a minimum of 70% on the food handler exam will receive an Ontario Food Handlers Certificate. This Certificate meets mandatory food safety training requirements and is recognized by health units in Ontario. \n\nDate and Time\n\nDate: October 24\, 2023Time: 1:30 pm – 3:30 pm \n\nLocation\n\nLambton Public Health160 Exmouth StPoint Edward\, Ontario N7T 7Z6Canada+ Google Map \n\nPurchase a Ticket Below to register
URL:https://lambtonpublichealth.ca/event/food-handlers-exam-oct-24th/
END:VEVENT
END:VCALENDAR